BEGIN:VCALENDAR
VERSION:2.0
PRODID:Imitheme.com 
BEGIN:VEVENT
UID:20260420T025701206725946
DTSTAMP;TZID=UTC:2026-04-20 02:57:01
DTSTART;TZID=America/Los_Angeles:20221217T000000
DTEND;TZID=America/Los_Angeles:20221217T000000
SUMMARY:Winter Solstice MMXXII Dispensary Party
LOCATION:1990 Walters Cour\, Fairfield\, Ca 94533
DESCRIPTION:Amazing Deals, 100 Goodie Bags, 32 Top Shelf Gift Boxes, Dr. Dabber Raffle, Christmas Tree Lighting, Hot Cocoa, Food Trucks, Live Music, 20+ Vendor Demos, Market Vendors, Swag & Good Vibes Click Here To Sign Up 32 Christmas Gift Boxes of all top shelf product will be available after the Christmas tree lighting at 6pm for only $60 Line starts at 4pm for the Christmas box and includes the following items: No Till Kings 8th of flower Ember Valley 8th of flower Preferred Gardens 8th of flower Hash & Flowers 1g Dabs Vesuvio Gardens 1g Dabs Alien Labs Disposable Vape *Limit 1 per customer 100 Goodie Bags will be given to the first 100 customers that make a purchase of $35 or more and will contain 14 amazing products! Each bag comes with a free drawstring bag We are still adding more to the bags today but here is what we have so far: Check out all of our deals! Spend $100 on Saturday December 17th and get a raffle ticket for a chance to win a Dr. Dabber Boost Evo, Smell-proof Revelry bags a Puffco Cupsy or other prizes. This will be an in-person raffle held shortly after our 6pm Christmas tree lighting on the day of our event Click Here To Sign Up *Must be present to win Thank you to all of our sponsors for helping us make these event succesful!
URL:https://www.thebrightspot.com/eventer/winter-solstice-mmxxii-dispensary-party/
END:VEVENT
END:VCALENDAR
