BEGIN:VCALENDAR
VERSION:2.0
PRODID:Imitheme.com 
BEGIN:VEVENT
UID:20260421T0158241963540526
DTSTAMP;TZID=UTC:2026-04-21 01:58:24
DTSTART;TZID=America/Los_Angeles:20220715T000000
DTEND;TZID=America/Los_Angeles:20220715T000000
SUMMARY:Space Monkey Demo
LOCATION:1990 Walters Cour\, Fairfield\, Ca 94533
DESCRIPTION:
URL:https://www.thebrightspot.com/eventer/space-monkey-demo/
END:VEVENT
END:VCALENDAR
