BEGIN:VCALENDAR
VERSION:2.0
PRODID:Imitheme.com 
BEGIN:VEVENT
UID:20260420T0132521148106485
DTSTAMP;TZID=UTC:2026-04-20 01:32:52
DTSTART;TZID=America/Los_Angeles:20220714T000000
DTEND;TZID=America/Los_Angeles:20220714T000000
SUMMARY:West Coast Treez
LOCATION:1990 Walters Cour\, Fairfield\, Ca 94533
DESCRIPTION:
URL:https://www.thebrightspot.com/eventer/west-coast-treez-2/
END:VEVENT
END:VCALENDAR
