BEGIN:VCALENDAR
VERSION:2.0
PRODID:Imitheme.com 
BEGIN:VEVENT
UID:20260420T025651815205211
DTSTAMP;TZID=UTC:2026-04-20 02:56:51
DTSTART;TZID=America/Los_Angeles:20220625T000000
DTEND;TZID=America/Los_Angeles:20220625T000000
SUMMARY:Country Ranch
LOCATION:1990 Walters Cour\, Fairfield\, Ca 94533
DESCRIPTION:
URL:https://www.thebrightspot.com/eventer/country-ranch/
END:VEVENT
END:VCALENDAR
