BEGIN:VCALENDAR
VERSION:2.0
PRODID:Imitheme.com 
BEGIN:VEVENT
UID:20260421T0200511229451455
DTSTAMP;TZID=UTC:2026-04-21 02:00:51
DTSTART;TZID=America/Los_Angeles:20220610T000000
DTEND;TZID=America/Los_Angeles:20220610T000000
SUMMARY:Country Ranch Demo
LOCATION:1990 Walters Cour\, Fairfield\, Ca 94533
DESCRIPTION:
URL:https://www.thebrightspot.com/eventer/country-ranch-demo/
END:VEVENT
END:VCALENDAR
