BEGIN:VCALENDAR
VERSION:2.0
PRODID:Imitheme.com 
BEGIN:VEVENT
UID:20260420T013305954173126
DTSTAMP;TZID=UTC:2026-04-20 01:33:05
DTSTART;TZID=America/Los_Angeles:20240504T000000
DTEND;TZID=America/Los_Angeles:20240504T000000
SUMMARY:Clone Drop Saturday May 4th, 2024
LOCATION:1990 Walters Cour\, Fairfield\, Ca 94533
DESCRIPTION:We are getting a batch of clones you can register to reserve online.   You can pick up your clones on Saturday May 4th, 2024 at The Bright Spot 1990 Walters Court, Fairfield, Ca. We will be open from 9am to 9pm   We will be getting Donny Burger, Lemon Cherry Gelato, Sour SFV, Tropicana Cookies & Oreoz by Equilibrium Genetics. To find out more info check out the clone page here: www.thebrightspot.com/clones   You can order as many clone as you like   Each ticket is a clone so if you want to order more than one make sure to add those additional tickets on the reservation page   Pay in store when you pickup    If you do not pick up your clones on 5/4/24 and you made a reservation we  they will be returned to our inventory and put out on the floor to be sold to the general public.   If you cannot pick up your clone on Saturday 5/4/24 and you need us to hold on to them for longer please reach out to us via our Contact Form
URL:https://www.thebrightspot.com/eventer/clone-drop-may-4th/
END:VEVENT
END:VCALENDAR
